BEGIN:VCALENDAR
PRODID:-//hacksw/handcal//NONSGML v1.0//EN
VERSION:2.0
METHOD:PUBLISH
BEGIN:VEVENT
DTSTART:20260423T210000Z
DTEND:20260423T230000Z
LOCATION:Delaware Community Foundation - 302 Savannah Road, Lewes, DE 29958
UID:2835820260423T210000ZSDEPC Member Mixer - Hosted by Delaware Community Foundation 
DTSTAMP:20260421T124426Z
DESCRIPTION:\nUnwind and connect at our SDEPC Member Mixer hosted by and at the Delaware Community Foundation in downtown Lewes, DE.  Enjoy great drinks, good vibes, and even better company!  Whether you are new to the council or a familiar face, it’s the perfect chance to mingle, laugh, and network.\n
SUMMARY:SDEPC Member Mixer - Hosted by Delaware Community Foundation  - Southern Delaware Estate Planning Council 
PRIORITY:3
BEGIN:VALARM
TRIGGER:PT18H
ACTION:DISPLAY
DESCRIPTION:Reminder
END:VALARM
END:VEVENT
END:VCALENDAR